BEGIN:VCALENDAR
PRODID:-//eluceo/ical//2.0/EN
VERSION:2.0
CALSCALE:GREGORIAN
BEGIN:VEVENT
UID:70137c45f3f454f10c12c0f49d037b47
DTSTAMP:20260425T192738Z
SUMMARY:Story Dogs
DESCRIPTION:Description:\nJoin Gaye and story dog Gracie for this fun liter
 acy program. Ideal for children who are learning to read or children who a
 re having difficulty reading. The Story Dogs program helps develop literac
 y skills and reading confidence.
URL:https://cockburnlibraries.events.mylibrary.digital/event?id=116070
DTSTART;TZID=Australia/Perth:20250820T153000
DTEND;TZID=Australia/Perth:20250820T163000
LOCATION:Success Library\, 11 Wentworth Parade\, Success 6164 WA
END:VEVENT
BEGIN:VTIMEZONE
TZID:Australia/Perth
BEGIN:STANDARD
DTSTART:20200501T000000
TZNAME:AWST
TZOFFSETTO:+0800
TZOFFSETFROM:+0800
END:STANDARD
END:VTIMEZONE
END:VCALENDAR
