BEGIN:VCALENDAR
PRODID:-//eluceo/ical//2.0/EN
VERSION:2.0
CALSCALE:GREGORIAN
BEGIN:VEVENT
UID:0c8f6330092ca35bd9cb8eda1d398503
DTSTAMP:20260421T130847Z
SUMMARY:Community Cafe and Support Group
DESCRIPTION:Description:\nDrop in for a cuppa and a chat at the Coolbellup 
 Community Café and Support Group. Talk over problems that are getting you
  down and share information about community resources.\n\nPeople with disa
 bilities and their carers are very welcome.\n\nNo bookings required\, just
  come along!
URL:https://cockburnlibraries.events.mylibrary.digital/event?id=120905
DTSTART;TZID=Australia/Perth:20250515T100000
DTEND;TZID=Australia/Perth:20250515T120000
LOCATION:Coolbellup Library\, 90 Cordelia Avenue\, Coolbellup 6163 WA
END:VEVENT
BEGIN:VTIMEZONE
TZID:Australia/Perth
BEGIN:STANDARD
DTSTART:20200501T000000
TZNAME:AWST
TZOFFSETTO:+0800
TZOFFSETFROM:+0800
END:STANDARD
END:VTIMEZONE
END:VCALENDAR
