BEGIN:VCALENDAR
PRODID:-//eluceo/ical//2.0/EN
VERSION:2.0
CALSCALE:GREGORIAN
BEGIN:VEVENT
UID:2b622be1608dbe3cb95f70ef1592367b
DTSTAMP:20260421T130935Z
SUMMARY:Community Cafe and Support Group
DESCRIPTION:Description:\nDrop in for a cuppa and a chat at the Coolbellup 
 Community Café and Support Group. Talk over problems that are getting you
  down and share information about community resources.\n\nPeople with disa
 bilities and their carers are very welcome.\n\nNo bookings required\, just
  come along!
URL:https://cockburnlibraries.events.mylibrary.digital/event?id=120908
DTSTART;TZID=Australia/Perth:20250605T100000
DTEND;TZID=Australia/Perth:20250605T120000
LOCATION:Coolbellup Library\, 90 Cordelia Avenue\, Coolbellup 6163 WA
END:VEVENT
BEGIN:VTIMEZONE
TZID:Australia/Perth
BEGIN:STANDARD
DTSTART:20200501T000000
TZNAME:AWST
TZOFFSETTO:+0800
TZOFFSETFROM:+0800
END:STANDARD
END:VTIMEZONE
END:VCALENDAR
