BEGIN:VCALENDAR
PRODID:-//eluceo/ical//2.0/EN
VERSION:2.0
CALSCALE:GREGORIAN
BEGIN:VEVENT
UID:b513f22a51915fcbbd4eee4204f2d76e
DTSTAMP:20260421T131024Z
SUMMARY:Community Cafe and Support Group
DESCRIPTION:Description:\nDrop in for a cuppa and a chat at the Coolbellup 
 Community Café and Support Group. Talk over problems that are getting you
  down and share information about community resources.\n\nPeople with disa
 bilities and their carers are very welcome.\n\nNo bookings required\, just
  come along!
URL:https://cockburnlibraries.events.mylibrary.digital/event?id=120916
DTSTART;TZID=Australia/Perth:20250731T100000
DTEND;TZID=Australia/Perth:20250731T120000
LOCATION:Coolbellup Library\, 90 Cordelia Avenue\, Coolbellup 6163 WA
END:VEVENT
BEGIN:VTIMEZONE
TZID:Australia/Perth
BEGIN:STANDARD
DTSTART:20200501T000000
TZNAME:AWST
TZOFFSETTO:+0800
TZOFFSETFROM:+0800
END:STANDARD
END:VTIMEZONE
END:VCALENDAR
