BEGIN:VCALENDAR
PRODID:-//eluceo/ical//2.0/EN
VERSION:2.0
CALSCALE:GREGORIAN
BEGIN:VEVENT
UID:90320db63c3390a7d8a6ba4698761db9
DTSTAMP:20260425T033232Z
SUMMARY:Community Cafe and Support Group
DESCRIPTION:Description:\nDrop in for a cuppa and a chat at the Coolbellup 
 Community Café and Support Group. Talk over problems that are getting you
  down and share information about community resources.People with disabili
 ties and their carers are very welcome.No bookings required\, just come al
 ong!
URL:https://cockburnlibraries.events.mylibrary.digital/event?id=185657
DTSTART;TZID=Australia/Perth:20260507T100000
DTEND;TZID=Australia/Perth:20260507T120000
LOCATION:Coolbellup Library\, 90 Cordelia Avenue\, Coolbellup 6163 WA
END:VEVENT
BEGIN:VTIMEZONE
TZID:Australia/Perth
BEGIN:STANDARD
DTSTART:20200501T000000
TZNAME:AWST
TZOFFSETTO:+0800
TZOFFSETFROM:+0800
END:STANDARD
END:VTIMEZONE
END:VCALENDAR
