BEGIN:VCALENDAR
PRODID:-//eluceo/ical//2.0/EN
VERSION:2.0
CALSCALE:GREGORIAN
BEGIN:VEVENT
UID:957a59d97736c407a163f27191a63df4
DTSTAMP:20260425T033145Z
SUMMARY:Community Cafe and Support Group
DESCRIPTION:Description:\nDrop in for a cuppa and a chat at the Coolbellup 
 Community Café and Support Group. Talk over problems that are getting you
  down and share information about community resources.People with disabili
 ties and their carers are very welcome.No bookings required\, just come al
 ong!
URL:https://cockburnlibraries.events.mylibrary.digital/event?id=185659
DTSTART;TZID=Australia/Perth:20260521T100000
DTEND;TZID=Australia/Perth:20260521T120000
LOCATION:Coolbellup Library\, 90 Cordelia Avenue\, Coolbellup 6163 WA
END:VEVENT
BEGIN:VTIMEZONE
TZID:Australia/Perth
BEGIN:STANDARD
DTSTART:20200501T000000
TZNAME:AWST
TZOFFSETTO:+0800
TZOFFSETFROM:+0800
END:STANDARD
END:VTIMEZONE
END:VCALENDAR
